BEGIN:VCALENDAR
VERSION:2.0
PRODID:-//Power Edu International - ECPv6.10.1.1//NONSGML v1.0//EN
CALSCALE:GREGORIAN
METHOD:PUBLISH
X-ORIGINAL-URL:https://staging.poweredu.com.my
X-WR-CALDESC:Events for Power Edu International
REFRESH-INTERVAL;VALUE=DURATION:PT1H
X-Robots-Tag:noindex
X-PUBLISHED-TTL:PT1H
BEGIN:VTIMEZONE
TZID:Asia/Kuala_Lumpur
BEGIN:STANDARD
TZOFFSETFROM:+0800
TZOFFSETTO:+0800
TZNAME:+08
DTSTART:20250101T000000
END:STANDARD
END:VTIMEZONE
BEGIN:VEVENT
DTSTART;TZID=Asia/Kuala_Lumpur:20250423T090000
DTEND;TZID=Asia/Kuala_Lumpur:20250425T170000
DTSTAMP:20260422T072832
CREATED:20250313T023656Z
LAST-MODIFIED:20250313T024307Z
UID:10000003-1745398800-1745600400@staging.poweredu.com.my
SUMMARY:Occupational Safety and Health Coordinator - Kuching\, Sarawak
DESCRIPTION:
URL:https://staging.poweredu.com.my/training/occupational-safety-and-health-coordinator-kuching-sarawak/
LOCATION:Power Edu International Training Room\, Kuching\, Sarawak\, 93350\, Malaysia
ORGANIZER;CN="Power Edu International Sdn Bhd":MAILTO:contact@poweredu.com.my
END:VEVENT
END:VCALENDAR